BEGIN:VCALENDAR
VERSION:2.0
PRODID:spatie/icalendar-generator
DESCRIPTION:Events from Blinded Veterans Association
X-WR-CALDESC:Events from Blinded Veterans Association
REFRESH-INTERVAL;VALUE=DURATION:PT1440M
X-PUBLISHED-TTL:PT1440M
BEGIN:VTIMEZONE
TZID:America/New_York
BEGIN:DAYLIGHT
DTSTART:20250309T020000Z
TZOFFSETFROM:-0500
TZOFFSETTO:-0400
END:DAYLIGHT
BEGIN:STANDARD
DTSTART:20251102T020000Z
TZOFFSETFROM:-0400
TZOFFSETTO:-0500
END:STANDARD
END:VTIMEZONE
BEGIN:VTIMEZONE
TZID:UTC
BEGIN:STANDARD
DTSTART:20250730T011102Z
TZOFFSETFROM:+0000
TZOFFSETTO:+0000
END:STANDARD
END:VTIMEZONE
BEGIN:VEVENT
UID:324-136
DTSTAMP:20260426T011102Z
SUMMARY:VetTech &amp;amp\; Educational Series
LOCATION:
ORGANIZER;CN=Kylie Fitzgerald:MAILTO:kfitzgerald@bva.org
DTSTART;TZID=America/New_York:20250806T150000
DTEND;TZID=America/New_York:20250806T170000
X-ALT-DESC;FMTTYPE=TEXT/HTML:Event Description: This session will be partic
 ipant driven and participant directed. VetTech attendees wishing to provid
 e feedback\, suggestions\, or other input for the VetTech initiative may s
 end them via email to info@bva.org with the word “VetTech” in the subj
 ect line. Join Meeting (Web): Click Here Meeting ID: 873 9159 8202 Passcod
 e: 1958 One tap mobile&amp;hellip\;
CATEGORIES:VetTech &amp; Educational
URL;VALUE=URI:https://bva.org/mc-events/vettech-educational-series-36/
METHOD:PUBLISH
END:VEVENT
END:VCALENDAR