BEGIN:VCALENDAR
VERSION:2.0
PRODID:spatie/icalendar-generator
DESCRIPTION:Events from Blinded Veterans Association
X-WR-CALDESC:Events from Blinded Veterans Association
REFRESH-INTERVAL;VALUE=DURATION:PT1440M
X-PUBLISHED-TTL:PT1440M
BEGIN:VTIMEZONE
TZID:America/New_York
BEGIN:STANDARD
DTSTART:20251102T020000Z
TZOFFSETFROM:-0400
TZOFFSETTO:-0500
END:STANDARD
BEGIN:DAYLIGHT
DTSTART:20260308T020000Z
TZOFFSETFROM:-0500
TZOFFSETTO:-0400
END:DAYLIGHT
END:VTIMEZONE
BEGIN:VTIMEZONE
TZID:UTC
BEGIN:STANDARD
DTSTART:20250729T104444Z
TZOFFSETFROM:+0000
TZOFFSETTO:+0000
END:STANDARD
END:VTIMEZONE
BEGIN:VEVENT
UID:695-196
DTSTAMP:20260425T104444Z
SUMMARY:VetTech &amp;amp\; Educational Series
LOCATION:
ORGANIZER;CN=Kylie Fitzgerald:MAILTO:kfitzgerald@bva.org
DTSTART;TZID=America/New_York:20260225T150000
DTEND;TZID=America/New_York:20260225T170000
X-ALT-DESC;FMTTYPE=TEXT/HTML:Event Description: The session will consist of
  additional discussion about the Apple Watch and then move to the topic of
  screen readers and their various capabilities\, including magnification a
 nd readers used to scan text. Join Meeting (Web): Click Here Meeting ID: 
 873 9159 8202 Passcode: 1958 One tap mobile +13017158592\,\,87391598202#\,
 \,\,\,*1958# US (Washington DC) +16465588656\,\,87391598202#\,\,\,\,*1958#
  US (New&amp;hellip\;
CATEGORIES:VetTech &amp; Educational
URL;VALUE=URI:https://bva.org/mc-events/vettech-educational-series-8/
METHOD:PUBLISH
END:VEVENT
END:VCALENDAR