BEGIN:VCALENDAR
VERSION:2.0
PRODID:spatie/icalendar-generator
DESCRIPTION:Events from Blinded Veterans Association
X-WR-CALDESC:Events from Blinded Veterans Association
REFRESH-INTERVAL;VALUE=DURATION:PT1440M
X-PUBLISHED-TTL:PT1440M
BEGIN:VTIMEZONE
TZID:America/New_York
BEGIN:DAYLIGHT
DTSTART:20250309T020000Z
TZOFFSETFROM:-0500
TZOFFSETTO:-0400
END:DAYLIGHT
BEGIN:STANDARD
DTSTART:20251102T020000Z
TZOFFSETFROM:-0400
TZOFFSETTO:-0500
END:STANDARD
END:VTIMEZONE
BEGIN:VTIMEZONE
TZID:UTC
BEGIN:STANDARD
DTSTART:20250730T030945Z
TZOFFSETFROM:+0000
TZOFFSETTO:+0000
END:STANDARD
END:VTIMEZONE
BEGIN:VEVENT
UID:1259-145
DTSTAMP:20260426T030945Z
SUMMARY:New Member Orientation Series
LOCATION:
ORGANIZER;CN=Kylie Fitzgerald:MAILTO:kfitzgerald@bva.org
DTSTART;TZID=America/New_York:20250825T130000
DTEND;TZID=America/New_York:20250825T143000
X-ALT-DESC;FMTTYPE=TEXT/HTML:Event Description: The session will share info
 rmation and address issues of importance to BVA members who have recently 
 joined the Association. Join Meeting (Web): Click Here Meeting ID: 8105815
 4690 Passcode: 1945 Join Meeting (One Tap Mobile): +16465588656\,\,8105815
 4690#\,\,\,\,*1945# +16469313860\,\,81058154690#\,\,\,\,*1945# Join Meetin
 g (Telephone by Location): (646) 558-8656 (New York) (301) 715-8592 (Washi
 ngton DC) (312) 626-6799 (Chicago) (720)&amp;hellip\;
CATEGORIES:General
URL;VALUE=URI:https://bva.org/mc-events/new-member-orientation-series-5/
METHOD:PUBLISH
END:VEVENT
END:VCALENDAR