BEGIN:VCALENDAR
VERSION:2.0
PRODID:spatie/icalendar-generator
DESCRIPTION:Events from Blinded Veterans Association
X-WR-CALDESC:Events from Blinded Veterans Association
REFRESH-INTERVAL;VALUE=DURATION:PT1440M
X-PUBLISHED-TTL:PT1440M
BEGIN:VTIMEZONE
TZID:America/New_York
BEGIN:STANDARD
DTSTART:20251102T020000Z
TZOFFSETFROM:-0400
TZOFFSETTO:-0500
END:STANDARD
BEGIN:DAYLIGHT
DTSTART:20260308T020000Z
TZOFFSETFROM:-0500
TZOFFSETTO:-0400
END:DAYLIGHT
END:VTIMEZONE
BEGIN:VTIMEZONE
TZID:UTC
BEGIN:STANDARD
DTSTART:20250729T105434Z
TZOFFSETFROM:+0000
TZOFFSETTO:+0000
END:STANDARD
END:VTIMEZONE
BEGIN:VEVENT
UID:1600-195
DTSTAMP:20260425T105434Z
SUMMARY:Town Halls &amp;amp\; Educational Series
LOCATION:
ORGANIZER;CN=Kylie Fitzgerald:MAILTO:kfitzgerald@bva.org
DTSTART;TZID=America/New_York:20260219T150000
DTEND;TZID=America/New_York:20260219T160000
X-ALT-DESC;FMTTYPE=TEXT/HTML:Event Description: The session will offer a fo
 rum in which BVA members can speak with and ask questions of the BVA natio
 nal leadership. &amp;nbsp\; Join Zoom Meeting (Every month on the Third Thursd
 ay): https://us06web.zoom.us/j/88644750288?pwd=2SOoouJBvwLd77ro8iFyMjQ7vDr
 YcZ.1 Meeting ID: 886 4475 0288 Passcode: 1945 --- One tap mobile +1301715
 8592\,\,88644750288#\,\,\,\,*1945# US (Washington DC) +13126266799\,\,8864
 4750288#\,\,\,\,*1945# US (Chicago) Join instructions https://us06web.zoom
 .us/meetings/88644750288/invitations?signature=9qA-_STRdi9JbRcZCuMPBMy8nxj
 rjsNqCPiOd73r8dg
CATEGORIES:Town Halls &amp; Educational Series
URL;VALUE=URI:https://bva.org/mc-events/town-halls-educational-series-2/
METHOD:PUBLISH
END:VEVENT
END:VCALENDAR