BEGIN:VCALENDAR
VERSION:2.0
PRODID:spatie/icalendar-generator
DESCRIPTION:Events from Blinded Veterans Association
X-WR-CALDESC:Events from Blinded Veterans Association
REFRESH-INTERVAL;VALUE=DURATION:PT1440M
X-PUBLISHED-TTL:PT1440M
BEGIN:VTIMEZONE
TZID:America/New_York
BEGIN:STANDARD
DTSTART:20251102T020000Z
TZOFFSETFROM:-0400
TZOFFSETTO:-0500
END:STANDARD
BEGIN:DAYLIGHT
DTSTART:20260308T020000Z
TZOFFSETFROM:-0500
TZOFFSETTO:-0400
END:DAYLIGHT
END:VTIMEZONE
BEGIN:VTIMEZONE
TZID:UTC
BEGIN:STANDARD
DTSTART:20250729T141512Z
TZOFFSETFROM:+0000
TZOFFSETTO:+0000
END:STANDARD
END:VTIMEZONE
BEGIN:VEVENT
UID:2710-197
DTSTAMP:20260425T141512Z
SUMMARY:Book Club Meeting
LOCATION:
ORGANIZER;CN=Kylie Fitzgerald:MAILTO:kfitzgerald@bva.org
DTSTART;TZID=America/New_York:20260225T190000
DTEND;TZID=America/New_York:20260225T200000
X-ALT-DESC;FMTTYPE=TEXT/HTML:Event Description: Attendees will review The T
 enant by Frieda McFadden\, the book chosen for reading by the group for th
 e month of February. The book can be accessed using the National Library S
 ervice’s Talking Books Braille and Audio Reading Download (BARD) Identif
 ier DB 129429. Total average reading time for The Tenant is estimated at 8
 :52:38&amp;hellip\;
CATEGORIES:General
URL;VALUE=URI:https://bva.org/mc-events/book-club-meeting-3/
METHOD:PUBLISH
END:VEVENT
END:VCALENDAR