BEGIN:VCALENDAR
VERSION:2.0
PRODID:spatie/icalendar-generator
DESCRIPTION:Events from Blinded Veterans Association
X-WR-CALDESC:Events from Blinded Veterans Association
REFRESH-INTERVAL;VALUE=DURATION:PT1440M
X-PUBLISHED-TTL:PT1440M
BEGIN:VTIMEZONE
TZID:America/New_York
BEGIN:DAYLIGHT
DTSTART:20250309T020000Z
TZOFFSETFROM:-0500
TZOFFSETTO:-0400
END:DAYLIGHT
BEGIN:STANDARD
DTSTART:20251102T020000Z
TZOFFSETFROM:-0400
TZOFFSETTO:-0500
END:STANDARD
END:VTIMEZONE
BEGIN:VTIMEZONE
TZID:UTC
BEGIN:STANDARD
DTSTART:20250730T011420Z
TZOFFSETFROM:+0000
TZOFFSETTO:+0000
END:STANDARD
END:VTIMEZONE
BEGIN:VEVENT
UID:668-140
DTSTAMP:20260426T011420Z
SUMMARY:VetTech &amp;amp\; Educational Series
LOCATION:
ORGANIZER;CN=Kylie Fitzgerald:MAILTO:kfitzgerald@bva.org
DTSTART;TZID=America/New_York:20250820T150000
DTEND;TZID=America/New_York:20250820T170000
X-ALT-DESC;FMTTYPE=TEXT/HTML:Event Description: The session will be an open
 -ended discussion\, participant driven and participant centered. Join Meet
 ing (Web): Click Here Meeting ID: 873 9159 8202 Passcode: 1958 One tap mo
 bile +13017158592\,\,87391598202#\,\,\,\,*1958# US (Washington DC) +164655
 88656\,\,87391598202#\,\,\,\,*1958# US (New York) Dial by your location +1
  301 715 8592 US (Washington DC) +1 646 558 8656 US (New York) +1&amp;hellip\;
CATEGORIES:VetTech &amp; Educational
URL;VALUE=URI:https://bva.org/mc-events/vettech-educational-series-39/
METHOD:PUBLISH
END:VEVENT
END:VCALENDAR